Workbook
Name NamePubTextLoc: [1]Setup!$E$18

Sheet Scenario Parameters
A1: Scenario Parameters | P1: Central Scenario | T1: Low Scenario | X1: High Scenario
A2: Industry Group Parameters | N2: Toggles | P2: 1 | Q2: 1 | R2: 1 | T2: 1 | U2: 1 | V2: 1 | X2: 1 | Y2: 1 | Z2: 1
A3: Group # | B3: Industry Group | C3: Labour input reduction | D3: Capital input reduction | E3: Labour ratio | F3: TFP increase | G3: Share of TFP change competed away | H3: Share of TFP change captured by labour | I3: Share of TFP change captured by capital | J3: Price Elasticity | K3: Income Elasticity | L3: Exogenous Demand Change | M3: Notes | P3: Labour Productivity Increase | Q3: Capital Productivity Increase | R3: Exogenous Demand Change | T3: Labour Productivity Increase | U3: Capital Productivity Increase | V3: Exogenous Demand Change | X3: Labour Productivity Increase | Y3: Capital Productivity Increase | Z3: Exogenous Demand Change
A4: 1 | B4: Agriculture (0101–0501) | C4: {=INDEX($P4:$Z4,1,$D$47)*INDEX($P$2:$Z$2,1,$D$47)*N4} -> 0.15 | D4: {=INDEX($P4:$Z4,1,$D$47+1)*INDEX($P$2:$Z$2,1,$D$47+1)*N4} -> 0.15 | E4: =SUMIF(Industries!$D$2:$D$116,A4,Industries!$F$2:$F$116)/SUMIF(Industries!$D$2:$D$116,A4,Industries!$H$2:$H$116) -> 0.23159852 | F4: =E4*C4+(1-E4)*D4 -> 0.15 | G4: =(1-H4)*$C$52 -> 0.44210037 | H4: =E4*$C$51 -> 0.11579926 | I4: =1-G4-H4 -> 0.44210037 | J4: 0.05 | K4: =INDEX('Income Distribution'!$G:$G,MATCH(A4,'Income Distribution'!$A:$A,0)) -> 0 | L4: {=INDEX($P4:$Z4,1,$D$47+2)*INDEX($P$2:$Z$2,1,$D$47+2)*N4} -> 0 | N4: 1 | P4: 0.15 | Q4: 0.15 | R4: 0 | T4: =P4*0.5 -> 0.075 | U4: =Q4*0.5 -> 0.075 | V4: =R4*0.5 -> 0 | X4: =MIN(0.95,P4*3) -> 0.45 | Y4: =MIN(0.95,Q4*3) -> 0.45 | Z4: 0 | AB4: 0.05 | AC4: 0.1
A5: 2 | B5: Coal, oil and gas extraction, fossil fuel products and gas supply (0601/0701/1701/2701) | C5: {=INDEX($P5:$Z5,1,$D$47)*INDEX($P$2:$Z$2,1,$D$47)*N5} -> 0.05 | D5: {=INDEX($P5:$Z5,1,$D$47+1)*INDEX($P$2:$Z$2,1,$D$47+1)*N5} -> 0.05 | E5: =SUMIF(Industries!$D$2:$D$116,A5,Industries!$F$2:$F$116)/SUMIF(Industries!$D$2:$D$116,A5,Industries!$H$2:$H$116) -> 0.10911817 | F5: =E5*C5+(1-E5)*D5 -> 0.05 | G5: =(1-H5)*$C$52 -> 0.47272046 | H5: =E5*$C$51 -> 0.054559086 | I5: =1-G5-H5 -> 0.47272046 | J5: 0 | K5: =INDEX('Income Distribution'!$G:$G,MATCH(A5,'Income Distribution'!$A:$A,0)) -> 0 | L5: {=INDEX($P5:$Z5,1,$D$47+2)*INDEX($P$2:$Z$2,1,$D$47+2)*N5} -> -0.9 | M5: Decarbonisation | N5: 1 | P5: 0.05 | Q5: 0.05 | R5: -0.9 | T5: =P5*0.5 -> 0.025 | U5: =Q5*0.5 -> 0.025 | V5: =R5*0.5 -> -0.45 | X5: =MIN(0.95,P5*3) -> 0.15 | Y5: =MIN(0.95,Q5*3) -> 0.15 | Z5: -0.95 | AB5: 0 | AC5: 0.1
A6: 3 | B6: Metals and minerals extraction (0801–0901) | C6: {=INDEX($P6:$Z6,1,$D$47)*INDEX($P$2:$Z$2,1,$D$47)*N6} -> 0.05 | D6: {=INDEX($P6:$Z6,1,$D$47+1)*INDEX($P$2:$Z$2,1,$D$47+1)*N6} -> 0.05 | E6: =SUMIF(Industries!$D$2:$D$116,A6,Industries!$F$2:$F$116)/SUMIF(Industries!$D$2:$D$116,A6,Industries!$H$2:$H$116) -> 0.14896967 | F6: =E6*C6+(1-E6)*D6 -> 0.05 | G6: =(1-H6)*$C$52 -> 0.46275758 | H6: =E6*$C$51 -> 0.074484836 | I6: =1-G6-H6 -> 0.46275758 | J6: 0.3 | K6: =INDEX('Income Distribution'!$G:$G,MATCH(A6,'Income Distribution'!$A:$A,0)) -> 0 | L6: {=INDEX($P6:$Z6,1,$D$47+2)*INDEX($P$2:$Z$2,1,$D$47+2)*N6} -> 0.1 | M6: Increased demand for copper, rare earth, and lithium | N6: 1 | P6: 0.05 | Q6: 0.05 | R6: 0.1 | T6: =P6*0.5 -> 0.025 | U6: =Q6*0.5 -> 0.025 | V6: =R6*0.5 -> 0.05 | X6: =MIN(0.95,P6*3) -> 0.15 | Y6: =MIN(0.95,Q6*3) -> 0.15 | Z6: 0.3 | AB6: 0.3 | AC6: 0.1
A7: 4 | B7: Extraction support services (1001) | C7: {=INDEX($P7:$Z7,1,$D$47)*INDEX($P$2:$Z$2,1,$D$47)*N7} -> 0.5 | D7: {=INDEX($P7:$Z7,1,$D$47+1)*INDEX($P$2:$Z$2,1,$D$47+1)*N7} -> 0.5 | E7: =SUMIF(Industries!$D$2:$D$116,A7,Industries!$F$2:$F$116)/SUMIF(Industries!$D$2:$D$116,A7,Industries!$H$2:$H$116) -> 0.60530657 | F7: =E7*C7+(1-E7)*D7 -> 0.5 | G7: =(1-H7)*$C$52 -> 0.34867336 | H7: =E7*$C$51 -> 0.30265329 | I7: =1-G7-H7 -> 0.34867336 | J7: 0 | K7: =INDEX('Income Distribution'!$G:$G,MATCH(A7,'Income Distribution'!$A:$A,0)) -> 0 | L7: {=INDEX($P7:$Z7,1,$D$47+2)*INDEX($P$2:$Z$2,1,$D$47+2)*N7} -> -0.6 | M7: Decarbonisation | N7: 1 | P7: 0.5 | Q7: 0.5 | R7: -0.6 | T7: =P7*0.5 -> 0.25 | U7: =Q7*0.5 -> 0.25 | V7: =R7*0.5 -> -0.3 | X7: =MIN(0.95,P7*3) -> 0.95 | Y7: =MIN(0.95,Q7*3) -> 0.95 | Z7: -0.95 | AB7: 0 | AC7: 0.1
A8: 5 | B8: Food and clothing manufacturing (1101–1306) | C8: {=INDEX($P8:$Z8,1,$D$47)*INDEX($P$2:$Z$2,1,$D$47)*N8} -> 0.25 | D8: {=INDEX($P8:$Z8,1,$D$47+1)*INDEX($P$2:$Z$2,1,$D$47+1)*N8} -> 0.25 | E8: =SUMIF(Industries!$D$2:$D$116,A8,Industries!$F$2:$F$116)/SUMIF(Industries!$D$2:$D$116,A8,Industries!$H$2:$H$116) -> 0.58743747 | F8: =E8*C8+(1-E8)*D8 -> 0.25 | G8: =(1-H8)*$C$52 -> 0.35314063 | H8: =E8*$C$51 -> 0.29371874 | I8: =1-G8-H8 -> 0.35314063 | J8: 0.2 | K8: =INDEX('Income Distribution'!$G:$G,MATCH(A8,'Income Distribution'!$A:$A,0)) -> 0 | L8: {=INDEX($P8:$Z8,1,$D$47+2)*INDEX($P$2:$Z$2,1,$D$47+2)*N8} -> 0 | N8: 1 | P8: 0.25 | Q8: 0.25 | R8: 0 | T8: =P8*0.5 -> 0.125 | U8: =Q8*0.5 -> 0.125 | V8: =R8*0.5 -> 0 | X8: =MIN(0.95,P8*3) -> 0.75 | Y8: =MIN(0.95,Q8*3) -> 0.75 | Z8: 0 | AB8: 0.2 | AC8: 0.1
A9: 6 | B9: Intermediate construction and manufacturing materials (1401–1502/1803–1902/2001–2204) | C9: {=INDEX($P9:$Z9,1,$D$47)*INDEX($P$2:$Z$2,1,$D$47)*N9} -> 0.25 | D9: {=INDEX($P9:$Z9,1,$D$47+1)*INDEX($P$2:$Z$2,1,$D$47+1)*N9} -> 0.25 | E9: =SUMIF(Industries!$D$2:$D$116,A9,Industries!$F$2:$F$116)/SUMIF(Industries!$D$2:$D$116,A9,Industries!$H$2:$H$116) -> 0.58186384 | F9: =E9*C9+(1-E9)*D9 -> 0.25 | G9: =(1-H9)*$C$52 -> 0.35453404 | H9: =E9*$C$51 -> 0.29093192 | I9: =1-G9-H9 -> 0.35453404 | J9: 0.35 | K9: =INDEX('Income Distribution'!$G:$G,MATCH(A9,'Income Distribution'!$A:$A,0)) -> 0 | L9: {=INDEX($P9:$Z9,1,$D$47+2)*INDEX($P$2:$Z$2,1,$D$47+2)*N9} -> 0 | N9: 1 | P9: 0.25 | Q9: 0.25 | R9: 0 | T9: =P9*0.5 -> 0.125 | U9: =Q9*0.5 -> 0.125 | V9: =R9*0.5 -> 0 | X9: =MIN(0.95,P9*3) -> 0.75 | Y9: =MIN(0.95,Q9*3) -> 0.75 | Z9: 0 | AB9: 0.35 | AC9: 0.1
A10: 7 | B10: Printing, recording, entertainment (1601/5401–5601/6001/8210/8901–9201) | C10: {=INDEX($P10:$Z10,1,$D$47)*INDEX($P$2:$Z$2,1,$D$47)*N10} -> 0.05 | D10: {=INDEX($P10:$Z10,1,$D$47+1)*INDEX($P$2:$Z$2,1,$D$47+1)*N10} -> 0.05 | E10: =SUMIF(Industries!$D$2:$D$116,A10,Industries!$F$2:$F$116)/SUMIF(Industries!$D$2:$D$116,A10,Industries!$H$2:$H$116) -> 0.66773989 | F10: =E10*C10+(1-E10)*D10 -> 0.05 | G10: =(1-H10)*$C$52 -> 0.33306503 | H10: =E10*$C$51 -> 0.33386995 | I10: =1-G10-H10 -> 0.33306503 | J10: 0.6 | K10: =INDEX('Income Distribution'!$G:$G,MATCH(A10,'Income Distribution'!$A:$A,0)) -> 1.7475227 | L10: {=INDEX($P10:$Z10,1,$D$47+2)*INDEX($P$2:$Z$2,1,$D$47+2)*N10} -> 0 | N10: 1 | P10: 0.05 | Q10: 0.05 | R10: 0 | T10: =P10*0.5 -> 0.025 | U10: =Q10*0.5 -> 0.025 | V10: =R10*0.5 -> 0 | X10: =MIN(0.95,P10*3) -> 0.15 | Y10: =MIN(0.95,Q10*3) -> 0.15 | Z10: 0 | AB10: 0.6 | AC10: 0.1
A11: 8 | B11: Pharmaceuticals (1801/1802) | C11: {=INDEX($P11:$Z11,1,$D$47)*INDEX($P$2:$Z$2,1,$D$47)*N11} -> 0.5 | D11: {=INDEX($P11:$Z11,1,$D$47+1)*INDEX($P$2:$Z$2,1,$D$47+1)*N11} -> 0.5 | E11: =SUMIF(Industries!$D$2:$D$116,A11,Industries!$F$2:$F$116)/SUMIF(Industries!$D$2:$D$116,A11,Industries!$H$2:$H$116) -> 0.5994152 | F11: =E11*C11+(1-E11)*D11 -> 0.5 | G11: =(1-H11)*$C$52 -> 0.3501462 | H11: =E11*$C$51 -> 0.2997076 | I11: =1-G11-H11 -> 0.3501462 | J11: 0.05 | K11: =INDEX('Income Distribution'!$G:$G,MATCH(A11,'Income Distribution'!$A:$A,0)) -> 2.1303933 | L11: {=INDEX($P11:$Z11,1,$D$47+2)*INDEX($P$2:$Z$2,1,$D$47+2)*N11} -> -0.5 | M11: Improved efficacy and general health | N11: 1 | P11: 0.5 | Q11: 0.5 | R11: -0.5 | T11: =P11*0.5 -> 0.25 | U11: =Q11*0.5 -> 0.25 | V11: =R11*0.5 -> -0.25 | X11: =MIN(0.95,P11*3) -> 0.95 | Y11: =MIN(0.95,Q11*3) -> 0.95 | Z11: -0.95 | AB11: 0.05 | AC11: 0.7
A12: 9 | B12: Motor vehicles (2301) | C12: {=INDEX($P12:$Z12,1,$D$47)*INDEX($P$2:$Z$2,1,$D$47)*N12} -> 0.5 | D12: {=INDEX($P12:$Z12,1,$D$47+1)*INDEX($P$2:$Z$2,1,$D$47+1)*N12} -> 0.5 | E12: =SUMIF(Industries!$D$2:$D$116,A12,Industries!$F$2:$F$116)/SUMIF(Industries!$D$2:$D$116,A12,Industries!$H$2:$H$116) -> 0.66146916 | F12: =E12*C12+(1-E12)*D12 -> 0.5 | G12: =(1-H12)*$C$52 -> 0.33463271 | H12: =E12*$C$51 -> 0.33073458 | I12: =1-G12-H12 -> 0.33463271 | J12: 0 | K12: =INDEX('Income Distribution'!$G:$G,MATCH(A12,'Income Distribution'!$A:$A,0)) -> 0 | L12: {=INDEX($P12:$Z12,1,$D$47+2)*INDEX($P$2:$Z$2,1,$D$47+2)*N12} -> -0.7 | M12: MAAS substitution | N12: 1 | P12: 0.5 | Q12: 0.5 | R12: -0.7 | T12: =P12*0.5 -> 0.25 | U12: =Q12*0.5 -> 0.25 | V12: =R12*0.5 -> -0.35 | X12: =MIN(0.95,P12*3) -> 0.95 | Y12: =MIN(0.95,Q12*3) -> 0.95 | Z12: -0.95 | AB12: 0 | AC12: 0.2
A13: 10 | B13: Equipment manufacturing (2302–2502) | C13: {=INDEX($P13:$Z13,1,$D$47)*INDEX($P$2:$Z$2,1,$D$47)*N13} -> 0.25 | D13: {=INDEX($P13:$Z13,1,$D$47+1)*INDEX($P$2:$Z$2,1,$D$47+1)*N13} -> 0.25 | E13: =SUMIF(Industries!$D$2:$D$116,A13,Industries!$F$2:$F$116)/SUMIF(Industries!$D$2:$D$116,A13,Industries!$H$2:$H$116) -> 0.60673538 | F13: =E13*C13+(1-E13)*D13 -> 0.25 | G13: =(1-H13)*$C$52 -> 0.34831615 | H13: =E13*$C$51 -> 0.30336769 | I13: =1-G13-H13 -> 0.34831615 | J13: 0 | K13: =INDEX('Income Distribution'!$G:$G,MATCH(A13,'Income Distribution'!$A:$A,0)) -> 0 | L13: {=INDEX($P13:$Z13,1,$D$47+2)*INDEX($P$2:$Z$2,1,$D$47+2)*N13} -> 0 | N13: 1 | P13: 0.25 | Q13: 0.25 | R13: 0 | T13: =P13*0.5 -> 0.125 | U13: =Q13*0.5 -> 0.125 | V13: =R13*0.5 -> 0 | X13: =MIN(0.95,P13*3) -> 0.75 | Y13: =MIN(0.95,Q13*3) -> 0.75 | Z13: 0 | AB13: 0 | AC13: 0.1
A14: 11 | B14: Electricity generation and transmission (2601–2605) | C14: {=INDEX($P14:$Z14,1,$D$47)*INDEX($P$2:$Z$2,1,$D$47)*N14} -> 0.1 | D14: {=INDEX($P14:$Z14,1,$D$47+1)*INDEX($P$2:$Z$2,1,$D$47+1)*N14} -> 0.1 | E14: =SUMIF(Industries!$D$2:$D$116,A14,Industries!$F$2:$F$116)/SUMIF(Industries!$D$2:$D$116,A14,Industries!$H$2:$H$116) -> 0.31508926 | F14: =E14*C14+(1-E14)*D14 -> 0.1 | G14: =(1-H14)*$C$52 -> 0.42122769 | H14: =E14*$C$51 -> 0.15754463 | I14: =1-G14-H14 -> 0.42122769 | J14: 0.1 | K14: =INDEX('Income Distribution'!$G:$G,MATCH(A14,'Income Distribution'!$A:$A,0)) -> 0.77141935 | L14: {=INDEX($P14:$Z14,1,$D$47+2)*INDEX($P$2:$Z$2,1,$D$47+2)*N14} -> 0.25 | M14: Decarbonisation | N14: 1 | P14: 0.1 | Q14: 0.1 | R14: 0.25 | T14: =P14*0.5 -> 0.05 | U14: =Q14*0.5 -> 0.05 | V14: =R14*0.5 -> 0.125 | X14: =MIN(0.95,P14*3) -> 0.3 | Y14: =MIN(0.95,Q14*3) -> 0.3 | Z14: 0.3 | AB14: 0.1 | AC14: 0.8
A15: 12 | B15: Water and waste (2801/2901) | C15: {=INDEX($P15:$Z15,1,$D$47)*INDEX($P$2:$Z$2,1,$D$47)*N15} -> 0.25 | D15: {=INDEX($P15:$Z15,1,$D$47+1)*INDEX($P$2:$Z$2,1,$D$47+1)*N15} -> 0.25 | E15: =SUMIF(Industries!$D$2:$D$116,A15,Industries!$F$2:$F$116)/SUMIF(Industries!$D$2:$D$116,A15,Industries!$H$2:$H$116) -> 0.4262235 | F15: =E15*C15+(1-E15)*D15 -> 0.25 | G15: =(1-H15)*$C$52 -> 0.39344412 | H15: =E15*$C$51 -> 0.21311175 | I15: =1-G15-H15 -> 0.39344412 | J15: 0 | K15: =INDEX('Income Distribution'!$G:$G,MATCH(A15,'Income Distribution'!$A:$A,0)) -> 0 | L15: {=INDEX($P15:$Z15,1,$D$47+2)*INDEX($P$2:$Z$2,1,$D$47+2)*N15} -> 0 | N15: 1 | P15: 0.25 | Q15: 0.25 | R15: 0 | T15: =P15*0.5 -> 0.125 | U15: =Q15*0.5 -> 0.125 | V15: =R15*0.5 -> 0 | X15: =MIN(0.95,P15*3) -> 0.75 | Y15: =MIN(0.95,Q15*3) -> 0.75 | Z15: 0 | AB15: 0 | AC15: 0.1
A16: 13 | B16: Residential construction (3001) | C16: {=INDEX($P16:$Z16,1,$D$47)*INDEX($P$2:$Z$2,1,$D$47)*N16} -> 0.4 | D16: {=INDEX($P16:$Z16,1,$D$47+1)*INDEX($P$2:$Z$2,1,$D$47+1)*N16} -> 0.4 | E16: =SUMIF(Industries!$D$2:$D$116,A16,Industries!$F$2:$F$116)/SUMIF(Industries!$D$2:$D$116,A16,Industries!$H$2:$H$116) -> 0.50377242 | F16: =E16*C16+(1-E16)*D16 -> 0.4 | G16: =(1-H16)*$C$52 -> 0.3740569 | H16: =E16*$C$51 -> 0.25188621 | I16: =1-G16-H16 -> 0.3740569 | J16: 0.4 | K16: =INDEX('Income Distribution'!$G:$G,MATCH(A16,'Income Distribution'!$A:$A,0)) -> 1.8291199 | L16: {=INDEX($P16:$Z16,1,$D$47+2)*INDEX($P$2:$Z$2,1,$D$47+2)*N16} -> 0 | N16: 1 | P16: 0.4 | Q16: 0.4 | R16: 0 | T16: =P16*0.5 -> 0.2 | U16: =Q16*0.5 -> 0.2 | V16: =R16*0.5 -> 0 | X16: =MIN(0.95,P16*3) -> 0.95 | Y16: =MIN(0.95,Q16*3) -> 0.95 | Z16: 0 | AB16: 0.4 | AC16: 0.1
A17: 14 | B17: Non-residential building construction (3002) | C17: {=INDEX($P17:$Z17,1,$D$47)*INDEX($P$2:$Z$2,1,$D$47)*N17} -> 0.4 | D17: {=INDEX($P17:$Z17,1,$D$47+1)*INDEX($P$2:$Z$2,1,$D$47+1)*N17} -> 0.4 | E17: =SUMIF(Industries!$D$2:$D$116,A17,Industries!$F$2:$F$116)/SUMIF(Industries!$D$2:$D$116,A17,Industries!$H$2:$H$116) -> 0.60470216 | F17: =E17*C17+(1-E17)*D17 -> 0.4 | G17: =(1-H17)*$C$52 -> 0.34882446 | H17: =E17*$C$51 -> 0.30235108 | I17: =1-G17-H17 -> 0.34882446 | J17: 0.05 | K17: =INDEX('Income Distribution'!$G:$G,MATCH(A17,'Income Distribution'!$A:$A,0)) -> 0 | L17: {=INDEX($P17:$Z17,1,$D$47+2)*INDEX($P$2:$Z$2,1,$D$47+2)*N17} -> 0 | N17: 1 | P17: 0.4 | Q17: 0.4 | R17: 0 | T17: =P17*0.5 -> 0.2 | U17: =Q17*0.5 -> 0.2 | V17: =R17*0.5 -> 0 | X17: =MIN(0.95,P17*3) -> 0.95 | Y17: =MIN(0.95,Q17*3) -> 0.95 | Z17: 0 | AB17: 0.05 | AC17: 0.1
A18: 15 | B18: Civil construction (3101) | C18: {=INDEX($P18:$Z18,1,$D$47)*INDEX($P$2:$Z$2,1,$D$47)*N18} -> 0.4 | D18: {=INDEX($P18:$Z18,1,$D$47+1)*INDEX($P$2:$Z$2,1,$D$47+1)*N18} -> 0.4 | E18: =SUMIF(Industries!$D$2:$D$116,A18,Industries!$F$2:$F$116)/SUMIF(Industries!$D$2:$D$116,A18,Industries!$H$2:$H$116) -> 0.50436558 | F18: =E18*C18+(1-E18)*D18 -> 0.4 | G18: =(1-H18)*$C$52 -> 0.3739086 | H18: =E18*$C$51 -> 0.25218279 | I18: =1-G18-H18 -> 0.3739086 | J18: 0.3 | K18: =INDEX('Income Distribution'!$G:$G,MATCH(A18,'Income Distribution'!$A:$A,0)) -> 0 | L18: {=INDEX($P18:$Z18,1,$D$47+2)*INDEX($P$2:$Z$2,1,$D$47+2)*N18} -> 0 | N18: 1 | P18: 0.4 | Q18: 0.4 | R18: 0 | T18: =P18*0.5 -> 0.2 | U18: =Q18*0.5 -> 0.2 | V18: =R18*0.5 -> 0 | X18: =MIN(0.95,P18*3) -> 0.95 | Y18: =MIN(0.95,Q18*3) -> 0.95 | Z18: 0 | AB18: 0.3 | AC18: 0.1
A19: 16 | B19: Construction services (3201) | C19: {=INDEX($P19:$Z19,1,$D$47)*INDEX($P$2:$Z$2,1,$D$47)*N19} -> 0.4 | D19: {=INDEX($P19:$Z19,1,$D$47+1)*INDEX($P$2:$Z$2,1,$D$47+1)*N19} -> 0.4 | E19: =SUMIF(Industries!$D$2:$D$116,A19,Industries!$F$2:$F$116)/SUMIF(Industries!$D$2:$D$116,A19,Industries!$H$2:$H$116) -> 0.60996052 | F19: =E19*C19+(1-E19)*D19 -> 0.4 | G19: =(1-H19)*$C$52 -> 0.34750987 | H19: =E19*$C$51 -> 0.30498026 | I19: =1-G19-H19 -> 0.34750987 | J19: 0.25 | K19: =INDEX('Income Distribution'!$G:$G,MATCH(A19,'Income Distribution'!$A:$A,0)) -> 0 | L19: {=INDEX($P19:$Z19,1,$D$47+2)*INDEX($P$2:$Z$2,1,$D$47+2)*N19} -> 0 | N19: 1 | P19: 0.4 | Q19: 0.4 | R19: 0 | T19: =P19*0.5 -> 0.2 | U19: =Q19*0.5 -> 0.2 | V19: =R19*0.5 -> 0 | X19: =MIN(0.95,P19*3) -> 0.95 | Y19: =MIN(0.95,Q19*3) -> 0.95 | Z19: 0 | AB19: 0.25 | AC19: 0.1
A20: 17 | B20: Wholesale trade (3301) | C20: {=INDEX($P20:$Z20,1,$D$47)*INDEX($P$2:$Z$2,1,$D$47)*N20} -> 0.75 | D20: {=INDEX($P20:$Z20,1,$D$47+1)*INDEX($P$2:$Z$2,1,$D$47+1)*N20} -> 0.75 | E20: =SUMIF(Industries!$D$2:$D$116,A20,Industries!$F$2:$F$116)/SUMIF(Industries!$D$2:$D$116,A20,Industries!$H$2:$H$116) -> 0.58251738 | F20: =E20*C20+(1-E20)*D20 -> 0.75 | G20: =(1-H20)*$C$52 -> 0.35437065 | H20: =E20*$C$51 -> 0.29125869 | I20: =1-G20-H20 -> 0.35437065 | J20: 0.3 | K20: =INDEX('Income Distribution'!$G:$G,MATCH(A20,'Income Distribution'!$A:$A,0)) -> 0.53554714 | L20: {=INDEX($P20:$Z20,1,$D$47+2)*INDEX($P$2:$Z$2,1,$D$47+2)*N20} -> 0 | N20: 1 | P20: 0.75 | Q20: 0.75 | R20: 0 | T20: =P20*0.5 -> 0.375 | U20: =Q20*0.5 -> 0.375 | V20: =R20*0.5 -> 0 | X20: =MIN(0.95,P20*3) -> 0.95 | Y20: =MIN(0.95,Q20*3) -> 0.95 | Z20: 0 | AB20: 0.3 | AC20: 0.25
A21: 18 | B21: Retail trade (3901) | C21: {=INDEX($P21:$Z21,1,$D$47)*INDEX($P$2:$Z$2,1,$D$47)*N21} -> 0.2 | D21: {=INDEX($P21:$Z21,1,$D$47+1)*INDEX($P$2:$Z$2,1,$D$47+1)*N21} -> 0.2 | E21: =SUMIF(Industries!$D$2:$D$116,A21,Industries!$F$2:$F$116)/SUMIF(Industries!$D$2:$D$116,A21,Industries!$H$2:$H$116) -> 0.6540337 | F21: =E21*C21+(1-E21)*D21 -> 0.2 | G21: =(1-H21)*$C$52 -> 0.33649158 | H21: =E21*$C$51 -> 0.32701685 | I21: =1-G21-H21 -> 0.33649158 | J21: 0.4 | K21: =INDEX('Income Distribution'!$G:$G,MATCH(A21,'Income Distribution'!$A:$A,0)) -> 0.5152393 | L21: {=INDEX($P21:$Z21,1,$D$47+2)*INDEX($P$2:$Z$2,1,$D$47+2)*N21} -> 0 | N21: 1 | P21: 0.2 | Q21: 0.2 | R21: 0 | T21: =P21*0.5 -> 0.1 | U21: =Q21*0.5 -> 0.1 | V21: =R21*0.5 -> 0 | X21: =MIN(0.95,P21*3) -> 0.6 | Y21: =MIN(0.95,Q21*3) -> 0.6 | Z21: 0 | AB21: 0.4 | AC21: 0.1
A22: 19 | B22: Accommodation (4401) | C22: {=INDEX($P22:$Z22,1,$D$47)*INDEX($P$2:$Z$2,1,$D$47)*N22} -> 0.2 | D22: {=INDEX($P22:$Z22,1,$D$47+1)*INDEX($P$2:$Z$2,1,$D$47+1)*N22} -> 0.2 | E22: =SUMIF(Industries!$D$2:$D$116,A22,Industries!$F$2:$F$116)/SUMIF(Industries!$D$2:$D$116,A22,Industries!$H$2:$H$116) -> 0.62189869 | F22: =E22*C22+(1-E22)*D22 -> 0.2 | G22: =(1-H22)*$C$52 -> 0.34452533 | H22: =E22*$C$51 -> 0.31094935 | I22: =1-G22-H22 -> 0.34452533 | J22: 0.7 | K22: =INDEX('Income Distribution'!$G:$G,MATCH(A22,'Income Distribution'!$A:$A,0)) -> 2.833523 | L22: {=INDEX($P22:$Z22,1,$D$47+2)*INDEX($P$2:$Z$2,1,$D$47+2)*N22} -> 0 | N22: 1 | P22: 0.2 | Q22: 0.2 | R22: 0 | T22: =P22*0.5 -> 0.1 | U22: =Q22*0.5 -> 0.1 | V22: =R22*0.5 -> 0 | X22: =MIN(0.95,P22*3) -> 0.6 | Y22: =MIN(0.95,Q22*3) -> 0.6 | Z22: 0 | AB22: 0.7 | AC22: 0.1
A23: 20 | B23: Food & beverage services (4501) | C23: {=INDEX($P23:$Z23,1,$D$47)*INDEX($P$2:$Z$2,1,$D$47)*N23} -> 0.05 | D23: {=INDEX($P23:$Z23,1,$D$47+1)*INDEX($P$2:$Z$2,1,$D$47+1)*N23} -> 0.05 | E23: =SUMIF(Industries!$D$2:$D$116,A23,Industries!$F$2:$F$116)/SUMIF(Industries!$D$2:$D$116,A23,Industries!$H$2:$H$116) -> 0.70407367 | F23: =E23*C23+(1-E23)*D23 -> 0.05 | G23: =(1-H23)*$C$52 -> 0.32398158 | H23: =E23*$C$51 -> 0.35203683 | I23: =1-G23-H23 -> 0.32398158 | J23: 0.7 | K23: =INDEX('Income Distribution'!$G:$G,MATCH(A23,'Income Distribution'!$A:$A,0)) -> 1.7543353 | L23: {=INDEX($P23:$Z23,1,$D$47+2)*INDEX($P$2:$Z$2,1,$D$47+2)*N23} -> 0 | N23: 1 | P23: 0.05 | Q23: 0.05 | R23: 0 | T23: =P23*0.5 -> 0.025 | U23: =Q23*0.5 -> 0.025 | V23: =R23*0.5 -> 0 | X23: =MIN(0.95,P23*3) -> 0.15 | Y23: =MIN(0.95,Q23*3) -> 0.15 | Z23: 0 | AB23: 0.7 | AC23: 0.1
A24: 21 | B24: Road transport (4601) | C24: {=INDEX($P24:$Z24,1,$D$47)*INDEX($P$2:$Z$2,1,$D$47)*N24} -> 0.8 | D24: {=INDEX($P24:$Z24,1,$D$47+1)*INDEX($P$2:$Z$2,1,$D$47+1)*N24} -> 0.8 | E24: =SUMIF(Industries!$D$2:$D$116,A24,Industries!$F$2:$F$116)/SUMIF(Industries!$D$2:$D$116,A24,Industries!$H$2:$H$116) -> 0.65705647 | F24: =E24*C24+(1-E24)*D24 -> 0.8 | G24: =(1-H24)*$C$52 -> 0.33573588 | H24: =E24*$C$51 -> 0.32852824 | I24: =1-G24-H24 -> 0.33573588 | J24: 0.3 | K24: =INDEX('Income Distribution'!$G:$G,MATCH(A24,'Income Distribution'!$A:$A,0)) -> 0 | L24: {=INDEX($P24:$Z24,1,$D$47+2)*INDEX($P$2:$Z$2,1,$D$47+2)*N24} -> 0.2 | M24: MAAS substitution | N24: 1 | P24: 0.8 | Q24: 0.8 | R24: 0.2 | T24: =P24*0.5 -> 0.4 | U24: =Q24*0.5 -> 0.4 | V24: =R24*0.5 -> 0.1 | X24: =MIN(0.95,P24*3) -> 0.95 | Y24: =MIN(0.95,Q24*3) -> 0.95 | Z24: 0.4 | AB24: 0.3 | AC24: 0.5
A25: 22 | B25: Other transport (4701–4901) | C25: {=INDEX($P25:$Z25,1,$D$47)*INDEX($P$2:$Z$2,1,$D$47)*N25} -> 0.2 | D25: {=INDEX($P25:$Z25,1,$D$47+1)*INDEX($P$2:$Z$2,1,$D$47+1)*N25} -> 0.2 | E25: =SUMIF(Industries!$D$2:$D$116,A25,Industries!$F$2:$F$116)/SUMIF(Industries!$D$2:$D$116,A25,Industries!$H$2:$H$116) -> 0.56649477 | F25: =E25*C25+(1-E25)*D25 -> 0.2 | G25: =(1-H25)*$C$52 -> 0.35837631 | H25: =E25*$C$51 -> 0.28324739 | I25: =1-G25-H25 -> 0.35837631 | J25: 0.3 | K25: =INDEX('Income Distribution'!$G:$G,MATCH(A25,'Income Distribution'!$A:$A,0)) -> 1.1641782 | L25: {=INDEX($P25:$Z25,1,$D$47+2)*INDEX($P$2:$Z$2,1,$D$47+2)*N25} -> 0 | N25: 1 | P25: 0.2 | Q25: 0.2 | R25: 0 | T25: =P25*0.5 -> 0.1 | U25: =Q25*0.5 -> 0.1 | V25: =R25*0.5 -> 0 | X25: =MIN(0.95,P25*3) -> 0.6 | Y25: =MIN(0.95,Q25*3) -> 0.6 | Z25: 0 | AB25: 0.3 | AC25: 0.1
A26: 23 | B26: Courier, logistics and storage (5101/5201) | C26: {=INDEX($P26:$Z26,1,$D$47)*INDEX($P$2:$Z$2,1,$D$47)*N26} -> 0.6 | D26: {=INDEX($P26:$Z26,1,$D$47+1)*INDEX($P$2:$Z$2,1,$D$47+1)*N26} -> 0.6 | E26: =SUMIF(Industries!$D$2:$D$116,A26,Industries!$F$2:$F$116)/SUMIF(Industries!$D$2:$D$116,A26,Industries!$H$2:$H$116) -> 0.36055046 | F26: =E26*C26+(1-E26)*D26 -> 0.6 | G26: =(1-H26)*$C$52 -> 0.40986239 | H26: =E26*$C$51 -> 0.18027523 | I26: =1-G26-H26 -> 0.40986239 | J26: 0.3 | K26: =INDEX('Income Distribution'!$G:$G,MATCH(A26,'Income Distribution'!$A:$A,0)) -> 4.6064473 | L26: {=INDEX($P26:$Z26,1,$D$47+2)*INDEX($P$2:$Z$2,1,$D$47+2)*N26} -> 0 | N26: 1 | P26: 0.6 | Q26: 0.6 | R26: 0 | T26: =P26*0.5 -> 0.3 | U26: =Q26*0.5 -> 0.3 | V26: =R26*0.5 -> 0 | X26: =MIN(0.95,P26*3) -> 0.95 | Y26: =MIN(0.95,Q26*3) -> 0.95 | Z26: 0 | AB26: 0.3 | AC26: 0.3
A27: 24 | B27: Computer, internet and communications services (5701/5801/7001) | C27: {=INDEX($P27:$Z27,1,$D$47)*INDEX($P$2:$Z$2,1,$D$47)*N27} -> 0.15 | D27: {=INDEX($P27:$Z27,1,$D$47+1)*INDEX($P$2:$Z$2,1,$D$47+1)*N27} -> 0.15 | E27: =SUMIF(Industries!$D$2:$D$116,A27,Industries!$F$2:$F$116)/SUMIF(Industries!$D$2:$D$116,A27,Industries!$H$2:$H$116) -> 0.57389883 | F27: =E27*C27+(1-E27)*D27 -> 0.15 | G27: =(1-H27)*$C$52 -> 0.35652529 | H27: =E27*$C$51 -> 0.28694942 | I27: =1-G27-H27 -> 0.35652529 | J27: 0.8 | K27: =INDEX('Income Distribution'!$G:$G,MATCH(A27,'Income Distribution'!$A:$A,0)) -> 3.6169961 | L27: {=INDEX($P27:$Z27,1,$D$47+2)*INDEX($P$2:$Z$2,1,$D$47+2)*N27} -> 0 | M27: Assumed to include robots | N27: 1 | P27: 0.15 | Q27: 0.15 | R27: 0 | T27: =P27*0.5 -> 0.075 | U27: =Q27*0.5 -> 0.075 | V27: =R27*0.5 -> 0 | X27: =MIN(0.95,P27*3) -> 0.45 | Y27: =MIN(0.95,Q27*3) -> 0.45 | Z27: 0 | AB27: 0.8 | AC27: 0.2
A28: 25 | B28: Finance & insurance (6201–6401) | C28: {=INDEX($P28:$Z28,1,$D$47)*INDEX($P$2:$Z$2,1,$D$47)*N28} -> 0.5 | D28: {=INDEX($P28:$Z28,1,$D$47+1)*INDEX($P$2:$Z$2,1,$D$47+1)*N28} -> 0.5 | E28: =SUMIF(Industries!$D$2:$D$116,A28,Industries!$F$2:$F$116)/SUMIF(Industries!$D$2:$D$116,A28,Industries!$H$2:$H$116) -> 0.35893944 | F28: =E28*C28+(1-E28)*D28 -> 0.5 | G28: =(1-H28)*$C$52 -> 0.41026514 | H28: =E28*$C$51 -> 0.17946972 | I28: =1-G28-H28 -> 0.41026514 | J28: 0.3 | K28: =INDEX('Income Distribution'!$G:$G,MATCH(A28,'Income Distribution'!$A:$A,0)) -> 0 | L28: {=INDEX($P28:$Z28,1,$D$47+2)*INDEX($P$2:$Z$2,1,$D$47+2)*N28} -> 0 | N28: 1 | P28: 0.5 | Q28: 0.5 | R28: 0 | T28: =P28*0.5 -> 0.25 | U28: =Q28*0.5 -> 0.25 | V28: =R28*0.5 -> 0 | X28: =MIN(0.95,P28*3) -> 0.95 | Y28: =MIN(0.95,Q28*3) -> 0.95 | Z28: 0 | AB28: 0.3 | AC28: 0.15
A29: 26 | B29: Rental & hiring services (6601) | C29: {=INDEX($P29:$Z29,1,$D$47)*INDEX($P$2:$Z$2,1,$D$47)*N29} -> 0.5 | D29: {=INDEX($P29:$Z29,1,$D$47+1)*INDEX($P$2:$Z$2,1,$D$47+1)*N29} -> 0.5 | E29: =SUMIF(Industries!$D$2:$D$116,A29,Industries!$F$2:$F$116)/SUMIF(Industries!$D$2:$D$116,A29,Industries!$H$2:$H$116) -> 0.65793131 | F29: =E29*C29+(1-E29)*D29 -> 0.5 | G29: =(1-H29)*$C$52 -> 0.33551717 | H29: =E29*$C$51 -> 0.32896565 | I29: =1-G29-H29 -> 0.33551717 | J29: 0.4 | K29: =INDEX('Income Distribution'!$G:$G,MATCH(A29,'Income Distribution'!$A:$A,0)) -> 8.3499128 | L29: {=INDEX($P29:$Z29,1,$D$47+2)*INDEX($P$2:$Z$2,1,$D$47+2)*N29} -> 0 | N29: 1 | P29: 0.5 | Q29: 0.5 | R29: 0 | T29: =P29*0.5 -> 0.25 | U29: =Q29*0.5 -> 0.25 | V29: =R29*0.5 -> 0 | X29: =MIN(0.95,P29*3) -> 0.95 | Y29: =MIN(0.95,Q29*3) -> 0.95 | Z29: 0 | AB29: 0.4 | AC29: 0.2
A30: 27 | B30: Rent — imputed and actual (6700/6701) | C30: {=INDEX($P30:$Z30,1,$D$47)*INDEX($P$2:$Z$2,1,$D$47)*N30} -> 0 | D30: {=INDEX($P30:$Z30,1,$D$47+1)*INDEX($P$2:$Z$2,1,$D$47+1)*N30} -> 0 | E30: =SUMIF(Industries!$D$2:$D$116,A30,Industries!$F$2:$F$116)/SUMIF(Industries!$D$2:$D$116,A30,Industries!$H$2:$H$116) -> 0 | F30: =E30*C30+(1-E30)*D30 -> 0 | G30: =(1-H30)*$C$52 -> 0.5 | H30: =E30*$C$51 -> 0 | I30: =1-G30-H30 -> 0.5 | J30: 0.1 | K30: =INDEX('Income Distribution'!$G:$G,MATCH(A30,'Income Distribution'!$A:$A,0)) -> 1.2447715 | L30: {=INDEX($P30:$Z30,1,$D$47+2)*INDEX($P$2:$Z$2,1,$D$47+2)*N30} -> 0 | N30: 1 | P30: 0 | Q30: 0 | R30: 0 | T30: =P30*0.5 -> 0 | U30: =Q30*0.5 -> 0 | V30: =R30*0.5 -> 0 | X30: =MIN(0.95,P30*3) -> 0 | Y30: =MIN(0.95,Q30*3) -> 0 | Z30: 0 | AB30: 0.1 | AC30: 0
A31: 28 | B31: Property, agency & other services (6702/7210/9502) | C31: {=INDEX($P31:$Z31,1,$D$47)*INDEX($P$2:$Z$2,1,$D$47)*N31} -> 0.15 | D31: {=INDEX($P31:$Z31,1,$D$47+1)*INDEX($P$2:$Z$2,1,$D$47+1)*N31} -> 0.15 | E31: =SUMIF(Industries!$D$2:$D$116,A31,Industries!$F$2:$F$116)/SUMIF(Industries!$D$2:$D$116,A31,Industries!$H$2:$H$116) -> 0.69587875 | F31: =E31*C31+(1-E31)*D31 -> 0.15 | G31: =(1-H31)*$C$52 -> 0.32603031 | H31: =E31*$C$51 -> 0.34793938 | I31: =1-G31-H31 -> 0.32603031 | J31: 0.2 | K31: =INDEX('Income Distribution'!$G:$G,MATCH(A31,'Income Distribution'!$A:$A,0)) -> 0 | L31: {=INDEX($P31:$Z31,1,$D$47+2)*INDEX($P$2:$Z$2,1,$D$47+2)*N31} -> 0 | N31: 1 | P31: 0.15 | Q31: 0.15 | R31: 0 | T31: =P31*0.5 -> 0.075 | U31: =Q31*0.5 -> 0.075 | V31: =R31*0.5 -> 0 | X31: =MIN(0.95,P31*3) -> 0.45 | Y31: =MIN(0.95,Q31*3) -> 0.45 | Z31: 0 | AB31: 0.2 | AC31: 0.1
A32: 29 | B32: Professional, scientific & technical services (6901) | C32: {=INDEX($P32:$Z32,1,$D$47)*INDEX($P$2:$Z$2,1,$D$47)*N32} -> 0.6 | D32: {=INDEX($P32:$Z32,1,$D$47+1)*INDEX($P$2:$Z$2,1,$D$47+1)*N32} -> 0.6 | E32: =SUMIF(Industries!$D$2:$D$116,A32,Industries!$F$2:$F$116)/SUMIF(Industries!$D$2:$D$116,A32,Industries!$H$2:$H$116) -> 0.74004091 | F32: =E32*C32+(1-E32)*D32 -> 0.6 | G32: =(1-H32)*$C$52 -> 0.31498977 | H32: =E32*$C$51 -> 0.37002045 | I32: =1-G32-H32 -> 0.31498977 | J32: 0.1 | K32: =INDEX('Income Distribution'!$G:$G,MATCH(A32,'Income Distribution'!$A:$A,0)) -> 0.79449513 | L32: {=INDEX($P32:$Z32,1,$D$47+2)*INDEX($P$2:$Z$2,1,$D$47+2)*N32} -> 0 | N32: 1 | P32: 0.6 | Q32: 0.6 | R32: 0 | T32: =P32*0.5 -> 0.3 | U32: =Q32*0.5 -> 0.3 | V32: =R32*0.5 -> 0 | X32: =MIN(0.95,P32*3) -> 0.95 | Y32: =MIN(0.95,Q32*3) -> 0.95 | Z32: 0 | AB32: 0.1 | AC32: 0.4
A33: 30 | B33: Cleaning and maintenance services, excl vehicles (7310/9402) | C33: {=INDEX($P33:$Z33,1,$D$47)*INDEX($P$2:$Z$2,1,$D$47)*N33} -> 0.3 | D33: {=INDEX($P33:$Z33,1,$D$47+1)*INDEX($P$2:$Z$2,1,$D$47+1)*N33} -> 0.3 | E33: =SUMIF(Industries!$D$2:$D$116,A33,Industries!$F$2:$F$116)/SUMIF(Industries!$D$2:$D$116,A33,Industries!$H$2:$H$116) -> 0.7223387 | F33: =E33*C33+(1-E33)*D33 -> 0.3 | G33: =(1-H33)*$C$52 -> 0.31941532 | H33: =E33*$C$51 -> 0.36116935 | I33: =1-G33-H33 -> 0.31941532 | J33: 0.5 | K33: =INDEX('Income Distribution'!$G:$G,MATCH(A33,'Income Distribution'!$A:$A,0)) -> 5.2340194 | L33: {=INDEX($P33:$Z33,1,$D$47+2)*INDEX($P$2:$Z$2,1,$D$47+2)*N33} -> 0 | N33: 1 | P33: 0.3 | Q33: 0.3 | R33: 0 | T33: =P33*0.5 -> 0.15 | U33: =Q33*0.5 -> 0.15 | V33: =R33*0.5 -> 0 | X33: =MIN(0.95,P33*3) -> 0.9 | Y33: =MIN(0.95,Q33*3) -> 0.9 | Z33: 0 | AB33: 0.5 | AC33: 0.1
A34: 31 | B34: Public administration & regulation (7501) | C34: {=INDEX($P34:$Z34,1,$D$47)*INDEX($P$2:$Z$2,1,$D$47)*N34} -> 0.25 | D34: {=INDEX($P34:$Z34,1,$D$47+1)*INDEX($P$2:$Z$2,1,$D$47+1)*N34} -> 0.25 | E34: =SUMIF(Industries!$D$2:$D$116,A34,Industries!$F$2:$F$116)/SUMIF(Industries!$D$2:$D$116,A34,Industries!$H$2:$H$116) -> 0.8470019 | F34: =E34*C34+(1-E34)*D34 -> 0.25 | G34: =(1-H34)*$C$52 -> 0.28824953 | H34: =E34*$C$51 -> 0.42350095 | I34: =1-G34-H34 -> 0.28824953 | J34: 0 | K34: =INDEX('Income Distribution'!$G:$G,MATCH(A34,'Income Distribution'!$A:$A,0)) -> 0 | L34: {=INDEX($P34:$Z34,1,$D$47+2)*INDEX($P$2:$Z$2,1,$D$47+2)*N34} -> 0 | N34: 1 | P34: 0.25 | Q34: 0.25 | R34: 0 | T34: =P34*0.5 -> 0.125 | U34: =Q34*0.5 -> 0.125 | V34: =R34*0.5 -> 0 | X34: =MIN(0.95,P34*3) -> 0.75 | Y34: =MIN(0.95,Q34*3) -> 0.75 | Z34: 0 | AB34: 0 | AC34: 0.1
A35: 32 | B35: Defence (7601) | C35: {=INDEX($P35:$Z35,1,$D$47)*INDEX($P$2:$Z$2,1,$D$47)*N35} -> 0.25 | D35: {=INDEX($P35:$Z35,1,$D$47+1)*INDEX($P$2:$Z$2,1,$D$47+1)*N35} -> 0.25 | E35: =SUMIF(Industries!$D$2:$D$116,A35,Industries!$F$2:$F$116)/SUMIF(Industries!$D$2:$D$116,A35,Industries!$H$2:$H$116) -> 0.66039647 | F35: =E35*C35+(1-E35)*D35 -> 0.25 | G35: =(1-H35)*$C$52 -> 0.33490088 | H35: =E35*$C$51 -> 0.33019823 | I35: =1-G35-H35 -> 0.33490088 | J35: 0 | K35: =INDEX('Income Distribution'!$G:$G,MATCH(A35,'Income Distribution'!$A:$A,0)) -> 0 | L35: {=INDEX($P35:$Z35,1,$D$47+2)*INDEX($P$2:$Z$2,1,$D$47+2)*N35} -> 0 | N35: 1 | P35: 0.25 | Q35: 0.25 | R35: 0 | T35: =P35*0.5 -> 0.125 | U35: =Q35*0.5 -> 0.125 | V35: =R35*0.5 -> 0 | X35: =MIN(0.95,P35*3) -> 0.75 | Y35: =MIN(0.95,Q35*3) -> 0.75 | Z35: 0 | AB35: 0 | AC35: 0.1
A36: 33 | B36: Public order & safety (7701) | C36: {=INDEX($P36:$Z36,1,$D$47)*INDEX($P$2:$Z$2,1,$D$47)*N36} -> 0.1 | D36: {=INDEX($P36:$Z36,1,$D$47+1)*INDEX($P$2:$Z$2,1,$D$47+1)*N36} -> 0.1 | E36: =SUMIF(Industries!$D$2:$D$116,A36,Industries!$F$2:$F$116)/SUMIF(Industries!$D$2:$D$116,A36,Industries!$H$2:$H$116) -> 0.86699543 | F36: =E36*C36+(1-E36)*D36 -> 0.1 | G36: =(1-H36)*$C$52 -> 0.28325114 | H36: =E36*$C$51 -> 0.43349772 | I36: =1-G36-H36 -> 0.28325114 | J36: 0 | K36: =INDEX('Income Distribution'!$G:$G,MATCH(A36,'Income Distribution'!$A:$A,0)) -> 0 | L36: {=INDEX($P36:$Z36,1,$D$47+2)*INDEX($P$2:$Z$2,1,$D$47+2)*N36} -> 0 | N36: 1 | P36: 0.1 | Q36: 0.1 | R36: 0 | T36: =P36*0.5 -> 0.05 | U36: =Q36*0.5 -> 0.05 | V36: =R36*0.5 -> 0 | X36: =MIN(0.95,P36*3) -> 0.3 | Y36: =MIN(0.95,Q36*3) -> 0.3 | Z36: 0 | AB36: 0 | AC36: 0.1
A37: 34 | B37: Primary & secondary education (8010) | C37: {=INDEX($P37:$Z37,1,$D$47)*INDEX($P$2:$Z$2,1,$D$47)*N37} -> 0.5 | D37: {=INDEX($P37:$Z37,1,$D$47+1)*INDEX($P$2:$Z$2,1,$D$47+1)*N37} -> 0.5 | E37: =SUMIF(Industries!$D$2:$D$116,A37,Industries!$F$2:$F$116)/SUMIF(Industries!$D$2:$D$116,A37,Industries!$H$2:$H$116) -> 0.92036782 | F37: =E37*C37+(1-E37)*D37 -> 0.5 | G37: =(1-H37)*$C$52 -> 0.26990804 | H37: =E37*$C$51 -> 0.46018391 | I37: =1-G37-H37 -> 0.26990804 | J37: 0 | K37: =INDEX('Income Distribution'!$G:$G,MATCH(A37,'Income Distribution'!$A:$A,0)) -> 0 | L37: {=INDEX($P37:$Z37,1,$D$47+2)*INDEX($P$2:$Z$2,1,$D$47+2)*N37} -> 0 | N37: 1 | P37: 0.5 | Q37: 0.5 | R37: 0 | T37: =P37*0.5 -> 0.25 | U37: =Q37*0.5 -> 0.25 | V37: =R37*0.5 -> 0 | X37: =MIN(0.95,P37*3) -> 0.95 | Y37: =MIN(0.95,Q37*3) -> 0.95 | Z37: 0 | AB37: 0 | AC37: 0.1
A38: 35 | B38: Tertiary education (8110) | C38: {=INDEX($P38:$Z38,1,$D$47)*INDEX($P$2:$Z$2,1,$D$47)*N38} -> 0.5 | D38: {=INDEX($P38:$Z38,1,$D$47+1)*INDEX($P$2:$Z$2,1,$D$47+1)*N38} -> 0.5 | E38: =SUMIF(Industries!$D$2:$D$116,A38,Industries!$F$2:$F$116)/SUMIF(Industries!$D$2:$D$116,A38,Industries!$H$2:$H$116) -> 0.90227192 | F38: =E38*C38+(1-E38)*D38 -> 0.5 | G38: =(1-H38)*$C$52 -> 0.27443202 | H38: =E38*$C$51 -> 0.45113596 | I38: =1-G38-H38 -> 0.27443202 | J38: 0.2 | K38: =INDEX('Income Distribution'!$G:$G,MATCH(A38,'Income Distribution'!$A:$A,0)) -> 0 | L38: {=INDEX($P38:$Z38,1,$D$47+2)*INDEX($P$2:$Z$2,1,$D$47+2)*N38} -> -0.5 | M38: Reduced demand for degrees and research | N38: 1 | P38: 0.5 | Q38: 0.5 | R38: -0.5 | T38: =P38*0.5 -> 0.25 | U38: =Q38*0.5 -> 0.25 | V38: =R38*0.5 -> -0.25 | X38: =MIN(0.95,P38*3) -> 0.95 | Y38: =MIN(0.95,Q38*3) -> 0.95 | Z38: -0.95 | AB38: 0.2 | AC38: 0.3
A39: 36 | B39: Health care (8401) | C39: {=INDEX($P39:$Z39,1,$D$47)*INDEX($P$2:$Z$2,1,$D$47)*N39} -> 0.5 | D39: {=INDEX($P39:$Z39,1,$D$47+1)*INDEX($P$2:$Z$2,1,$D$47+1)*N39} -> 0.5 | E39: =SUMIF(Industries!$D$2:$D$116,A39,Industries!$F$2:$F$116)/SUMIF(Industries!$D$2:$D$116,A39,Industries!$H$2:$H$116) -> 0.82458884 | F39: =E39*C39+(1-E39)*D39 -> 0.5 | G39: =(1-H39)*$C$52 -> 0.29385279 | H39: =E39*$C$51 -> 0.41229442 | I39: =1-G39-H39 -> 0.29385279 | J39: 0.2 | K39: =INDEX('Income Distribution'!$G:$G,MATCH(A39,'Income Distribution'!$A:$A,0)) -> 0.69571622 | L39: {=INDEX($P39:$Z39,1,$D$47+2)*INDEX($P$2:$Z$2,1,$D$47+2)*N39} -> -0.5 | M39: Improved health | N39: 1 | P39: 0.5 | Q39: 0.5 | R39: -0.5 | T39: =P39*0.5 -> 0.25 | U39: =Q39*0.5 -> 0.25 | V39: =R39*0.5 -> -0.25 | X39: =MIN(0.95,P39*3) -> 0.95 | Y39: =MIN(0.95,Q39*3) -> 0.95 | Z39: -0.95 | AB39: 0.2 | AC39: 0.5
A40: 37 | B40: Aged and social services (8601) | C40: {=INDEX($P40:$Z40,1,$D$47)*INDEX($P$2:$Z$2,1,$D$47)*N40} -> 0.25 | D40: {=INDEX($P40:$Z40,1,$D$47+1)*INDEX($P$2:$Z$2,1,$D$47+1)*N40} -> 0.25 | E40: =SUMIF(Industries!$D$2:$D$116,A40,Industries!$F$2:$F$116)/SUMIF(Industries!$D$2:$D$116,A40,Industries!$H$2:$H$116) -> 0.89375567 | F40: =E40*C40+(1-E40)*D40 -> 0.25 | G40: =(1-H40)*$C$52 -> 0.27656108 | H40: =E40*$C$51 -> 0.44687783 | I40: =1-G40-H40 -> 0.27656108 | J40: 0.2 | K40: =INDEX('Income Distribution'!$G:$G,MATCH(A40,'Income Distribution'!$A:$A,0)) -> 1.0663237 | L40: {=INDEX($P40:$Z40,1,$D$47+2)*INDEX($P$2:$Z$2,1,$D$47+2)*N40} -> -0.5 | M40: Improved health | N40: 1 | P40: 0.25 | Q40: 0.25 | R40: -0.5 | T40: =P40*0.5 -> 0.125 | U40: =Q40*0.5 -> 0.125 | V40: =R40*0.5 -> -0.25 | X40: =MIN(0.95,P40*3) -> 0.75 | Y40: =MIN(0.95,Q40*3) -> 0.75 | Z40: -0.95 | AB40: 0.2 | AC40: 0.25
...

Sheet Results
A2: Hard Copies of Results (column C of Scenario Parameters)
A3: Scenario | B3: Central | C3: Low | D3: High | E3: Central | F3: Low | G3: High | H3: Central | I3: Low | J3: High | K3: Central | L3: Low | M3: High
B4: Base Case | E4: MPC Capital Returns = 50% | H4: 90% of excess income to new employment intensive industries | K4: 2-year payback period / 30% depreciation
A5: Macro Parameters
A6: Marginal propensity to consume wage and salary income | B6: 1 | C6: 1 | D6: 1 | E6: 1 | F6: 1 | G6: 1 | H6: 1 | I6: 1 | J6: 1 | K6: 1 | L6: 1 | M6: 1
A7: Marginal propensity to consume return on capital income | B7: 1 | C7: 1 | D7: 1 | E7: 0.5 | F7: 0.5 | G7: 0.5 | H7: 1 | I7: 1 | J7: 1 | K7: 1 | L7: 1 | M7: 1
A8: Exogenous export change | B8: 0 | C8: 0 | D8: 0 | E8: 0 | F8: 0 | G8: 0 | H8: 0 | I8: 0 | J8: 0 | K8: 0 | L8: 0 | M8: 0
A9: Multiplier for share of TFP increase captured by labour | B9: 0.5 | C9: 0.5 | D9: 0.5 | E9: 0.5 | F9: 0.5 | G9: 0.5 | H9: 0.5 | I9: 0.5 | J9: 0.5 | K9: 0.5 | L9: 0.5 | M9: 0.5
A10: Share of residual TFP competed away | B10: 0.5 | C10: 0.5 | D10: 0.5 | E10: 0.5 | F10: 0.5 | G10: 0.5 | H10: 0.5 | I10: 0.5 | J10: 0.5 | K10: 0.5 | L10: 0.5 | M10: 0.5
A11: Residual share of TFP increase returned to capital | B11: 0.5 | C11: 0.5 | D11: 0.5 | E11: 0.5 | F11: 0.5 | G11: 0.5 | H11: 0.5 | I11: 0.5 | J11: 0.5 | K11: 0.5 | L11: 0.5 | M11: 0.5
A12: AI / robot substitution payback period (years) | B12: 1 | C12: 1 | D12: 1 | E12: 1 | F12: 1 | G12: 1 | H12: 1 | I12: 1 | J12: 1 | K12: 2 | L12: 2 | M12: 2
A13: AI / robotics depreciation rate | B13: 0.2 | C13: 0.2 | D13: 0.2 | E13: 0.2 | F13: 0.2 | G13: 0.2 | H13: 0.2 | I13: 0.2 | J13: 0.2 | K13: 0.3 | L13: 0.3 | M13: 0.3
A14: Share of innovation demand to human-centric industries | B14: 0.5 | C14: 0.5 | D14: 0.5 | E14: 0.5 | F14: 0.5 | G14: 0.5 | H14: 0.9 | I14: 0.9 | J14: 0.9 | K14: 0.5 | L14: 0.5 | M14: 0.5
A15: Aggregate consumption stimulus (Income Change) | B15: 0.50581688 | C15: 0.18643656 | D15: 1.4467973 | E15: 0.11500595 | F15: 0.050477604 | G15: 0.15546738 | H15: 0.50581682 | I15: 0.18643656 | J15: 1.446798 | K15: 0.80547451 | L15: 0.26439299 | M15: 2.5560878
A17: Intermediate inputs
A18: TFP price deflator | B18: 0.9007776 | C18: 0.9503888 | D18: 0.79750444 | E18: 0.9007776 | F18: 0.9503888 | G18: 0.79750444 | H18: 0.9007776 | I18: 0.9503888 | J18: 0.79750444 | K18: 0.9007776 | L18: 0.9503888 | M18: 0.79750444
A19: Tax uplift | B19: 0.11719609 | C19: 0.053097396 | D19: 0.19054881 | E19: 0.032082767 | F19: 0.014360031 | G19: 0.055398059 | H19: 0.11719607 | I19: 0.053097396 | J19: 0.19054883 | K19: 0.22900942 | L19: 0.11018924 | M19: 0.36213679
A20: Government final consumption spending change | B20: 0.55338327 | C20: 0.23248775 | D20: 1.4505626 | E20: 0.43503913 | F20: 0.18715165 | G20: 1.1723755 | H20: 0.55338325 | I20: 0.23248775 | J20: 1.4505627 | K20: 0.70885191 | L20: 0.29930493 | M20: 1.8037502
A21: Gross fixed capital formation change | B21: 0.13020311 | C21: 0.061320484 | D21: 0.3159094 | E21: 0.13020311 | F21: 0.061320484 | G21: 0.3159094 | H21: 0.13020311 | I21: 0.061320484 | J21: 0.3159094 | K21: 0.13020311 | L21: 0.061320484 | M21: 0.3159094
A22: Export / import ratio | B22: 1.0674898 | C22: 1.0674898 | D22: 1.0674898 | E22: 1.0674898 | F22: 1.0674898 | G22: 1.0674898 | H22: 1.0674898 | I22: 1.0674898 | J22: 1.0674898 | K22: 1.0674898 | L22: 1.0674898 | M22: 1.0674898
A23: Deflated value of current exports | B23: 287269.05 | C23: 291567.17 | D23: 268518.19 | E23: 259094.06 | F23: 277086.88 | G23: 232859.06 | H23: 287269.04 | I23: 291567.17 | J23: 268518.2 | K23: 326031.33 | L23: 313278.65 | M23: 324405.97
A24: Deflated value of competing imports | B24: 346727.6 | C24: 325632.62 | D24: 346048.17 | E24: 297466.13 | F24: 301553.77 | G24: 278413.73 | H24: 346727.59 | I24: 325632.62 | J24: 346048.18 | K24: 423265.52 | L24: 367060.74 | M24: 456718.47
A25: Imports adjustment factor | B25: 0.68721835 | C25: 0.83913492 | D25: 0.68420755 | E25: 0.78283381 | F25: 0.89505273 | G25: 0.82243952 | H25: 0.68721837 | I25: 0.83913492 | J25: 0.68420753 | K25: 0.58147066 | L25: 0.76125814 | M25: 0.53831493
A26: Household investment in residential construction excluding income effect (addition to capital stock) | B26: 83674.305 | C26: 87402.951 | D26: 74537.719 | E26: 83674.305 | F26: 87402.951 | G26: 74537.719 | H26: 83674.305 | I26: 87402.951 | J26: 74537.719 | K26: 83674.305 | L26: 87402.951 | M26: 74537.719
A27: Household investment in residential construction - income effect (logistic method) | B27: 60944.012 | C27: 28701.651 | D27: 73791.917 | E27: 17346.582 | F27: 8047.0253 | G27: 20642.728 | H27: 60944.007 | I27: 28701.651 | J27: 73791.919 | K27: 75324.186 | L27: 39255.048 | M27: 74524.766
A28: IA / robotics assumed investment (addition to capital stock) | B28: 732806.8 | C28: 366403.4 | D28: 1535731.7 | E28: 732806.8 | F28: 366403.4 | G28: 1535731.7 | H28: 732806.8 | I28: 366403.4 | J28: 1535731.7 | K28: 1465613.6 | L28: 732806.8 | M28: 3071463.4
A29: AI / robotics one year investment | B29: 146561.36 | C29: 73280.68 | D29: 307146.34 | E29: 146561.36 | F29: 73280.68 | G29: 307146.34 | H29: 146561.36 | I29: 73280.68 | J29: 307146.34 | K29: 439684.08 | L29: 219842.04 | M29: 921439.02
... A35: Change in Government fiscal balance | B35: -0.0024597918 | C35: -8.9646317e-05 | D35: 0.014287587 | E35: -7.628242e-05 | F35: -7.818517e-05 | G35: -8.2688814e-05 | H35: 0.00092141045 | I35: 3.9930601e-05 | J35: 0.010327021 | K35: 6.4616906e-05 | L35: -0.00022768171 | M35: 0.0062006949
A38: Key Outputs
A39: Real GDP change | B39: 0.4709965 | C39: 0.20639916 | D39: 0.91128798 | E39: 0.28499205 | F39: 0.12930669 | G39: 0.56808268 | H39: 0.47099646 | I39: 0.20639916 | J39: 0.91128804 | K39: 0.72523677 | L39: 0.32377442 | M39: 1.3798631
A40: Employment | B40: -0.032205101 | C40: -0.039413589 | D40: 0.082546102 | E40: -0.20697405 | F40: -0.10173932 | G40: -0.52372619 | H40: 0.039241529 | I40: -0.021756508 | J40: 0.43318224 | K40: 0.22560236 | L40: 0.054468158 | M40: 0.87101524
A41: Final demand weighted cost saving | B41: 0.34732546 | C41: 0.14796647 | D41: 1.1750668 | E41: 0.34732546 | F41: 0.14796647 | G41: 1.1750668 | H41: 0.34732546 | I41: 0.14796647 | J41: 1.1750668 | K41: 0.34732546 | L41: 0.14796647 | M41: 1.1750668
A42: Domar-weighted TFP change | B42: 0.56652152 | C42: 0.28326076 | D42: 1.2131525 | E42: 0.56652152 | F42: 0.28326076 | G42: 1.2131525 | H42: 0.56652152 | I42: 0.28326076 | J42: 1.2131525 | K42: 0.56652152 | L42: 0.28326076 | M42: 1.2131525
A43: Real change in salary and wage income | B43: 0.23513845 | C43: 0.10902038 | D43: 0.3943063 | E43: 0.056510659 | F43: 0.047706376 | G43: -0.24810902 | H43: 0.2764351 | I43: 0.11813352 | J43: 0.63356604 | K43: 0.5605558 | L43: 0.23005773 | M43: 1.3693677
A44: Real change in capital income | B44: 0.93419848 | C44: 0.35410961 | D44: 2.7567887 | E44: 0.60982436 | F44: 0.25181892 | G44: 1.6034755 | H44: 0.88862987 | I44: 0.34405379 | J44: 2.4927806 | K44: 1.3205601 | L44: 0.47833307 | M44: 4.1129025
A45: Real change in aggregate household income | B45: 0.56747937 | C45: 0.22553853 | D45: 1.5174567 | E45: 0.31956215 | F45: 0.14474375 | G45: 0.63215487 | H45: 0.56747931 | I45: 0.22553853 | J45: 1.5174574 | K45: 0.92187029 | L45: 0.34809059 | M45: 2.6736747
A46: P1 share of income - current | B46: 0.52458887 | C46: 0.52458887 | D46: 0.52458887 | E46: 0.52458887 | F46: 0.52458887 | G46: 0.52458887 | H46: 0.52458887 | I46: 0.52458887 | J46: 0.52458887 | K46: 0.52458887 | L46: 0.52458887 | M46: 0.52458887
A47: P2 share of income - current | B47: 0.47541113 | C47: 0.47541113 | D47: 0.47541113 | E47: 0.47541113 | F47: 0.47541113 | G47: 0.47541113 | H47: 0.47541113 | I47: 0.47541113 | J47: 0.47541113 | K47: 0.47541113 | L47: 0.47541113 | M47: 0.47541113
A48: P1 share of income - projected | B48: 0.41336422 | C48: 0.47471355 | D48: 0.29054623 | E48: 0.42001336 | F48: 0.48012064 | G48: 0.24166435 | H48: 0.427185 | I48: 0.47861441 | J48: 0.34040321 | K48: 0.42596538 | L48: 0.47865819 | M48: 0.33833805
A49: P2 share of income - projected | B49: 0.58663578 | C49: 0.52528645 | D49: 0.70945377 | E49: 0.57998664 | F49: 0.51987936 | G49: 0.75833565 | H49: 0.572815 | I49: 0.52138559 | J49: 0.65959679 | K49: 0.57403462 | L49: 0.52134181 | M49: 0.66166195
...

Sheet Industry Divisions
B2: Risk free rate | C2: 0.05
B3: Assumed nominal population growth | C3: 0.013
S4: Of which:
B5: Industry Division | C5: Starting capital stock | D5: GFCF | E5: Consumption / Return of capital | F5: Revaluation | G5: Ending Capital Stock | H5: Gross operating surplus mixed income | I5: Normal return on capital | J5: Normal cost of capital | K5: Risk profit | L5: Risk profit % on total surplus | M5: Risk profit % on capital stock | N5: Revaluation percent | O5: Implied Enhancement Share | P5: Implied enhancement % of starting stock | Q5: Surplus over population growth | R5: Investment % on base | S5: Renewal | T5: Natural growth | U5: Productivity | W5: Productiviity capital | X5: Implied depreciation rate
A6: A | B6: Agriculture, forestry and fishing | C6: 188680 | D6: 16436 | E6: 21090 | F6: 9253 | G6: =C6+D6-E6+F6 -> 193279 | H6: =SUMIF('Projection Engine'!$C$5:$C$119,A6,'Projection Engine'!$AM$5:$AM$119) -> 40912 | I6: =C6*$C$2 -> 9434 | J6: =E6+I6 -> 30524 | K6: =H6-J6 -> 10388 | L6: =K6/H6 -> 0.25391083 | M6: =K6/C6 -> 0.05505618 | N6: =F6/C6 -> 0.049040704 | O6: =1-S6 -> 0 | P6: =MAX((D6-E6)/C6,0) -> 0 | Q6: =MAX(0,P6-$C$3) -> 0 | R6: =D6/C6 -> 0.087110452 | S6: =MIN(1,E6/D6) -> 1 | T6: =MIN(1-S6,($C$3*C6)/D6) -> 0 | U6: =1-S6-T6 -> 0 | W6: =U6*D6 -> 0 | X6: =E6/C6 -> 0.11177655
A7: B | B7: Mining | C7: 1106979 | D7: 77879 | E7: 72726 | F7: 42392 | G7: =C7+D7-E7+F7 -> 1154524 | H7: =SUMIF('Projection Engine'!$C$5:$C$119,A7,'Projection Engine'!$AM$5:$AM$119) -> 246134 | I7: =C7*$C$2 -> 55348.95 | J7: =E7+I7 -> 128074.95 | K7: =H7-J7 -> 118059.05 | L7: =K7/H7 -> 0.47965356 | M7: =K7/C7 -> 0.10664976 | N7: =F7/C7 -> 0.038295216 | O7: =1-S7 -> 0.066166746 | P7: =MAX((D7-E7)/C7,0) -> 0.0046550115 | Q7: =MAX(0,P7-$C$3) -> 0 | R7: =D7/C7 -> 0.070352735 | S7: =MIN(1,E7/D7) -> 0.93383325 | T7: =MIN(1-S7,($C$3*C7)/D7) -> 0.066166746 | U7: =1-S7-T7 -> 0 | W7: =U7*D7 -> 0 | X7: =E7/C7 -> 0.065697723
A8: C | B8: Manufacturing | C8: 213426 | D8: 27069 | E8: 22819 | F8: 7985 | G8: =C8+D8-E8+F8 -> 225661 | H8: =SUMIF('Projection Engine'!$C$5:$C$119,A8,'Projection Engine'!$AM$5:$AM$119) -> 57088 | I8: =C8*$C$2 -> 10671.3 | J8: =E8+I8 -> 33490.3 | K8: =H8-J8 -> 23597.7 | L8: =K8/H8 -> 0.41335657 | M8: =K8/C8 -> 0.11056619 | N8: =F8/C8 -> 0.037413436 | O8: =1-S8 -> 0.15700617 | P8: =MAX((D8-E8)/C8,0) -> 0.019913225 | Q8: =MAX(0,P8-$C$3) -> 0.0069132252 | R8: =D8/C8 -> 0.12683085 | S8: =MIN(1,E8/D8) -> 0.84299383 | T8: =MIN(1-S8,($C$3*C8)/D8) -> 0.10249873 | U8: =1-S8-T8 -> 0.054507444 | W8: =U8*D8 -> 1475.462 | X8: =E8/C8 -> 0.10691762
A9: D | B9: Electricity, gas, water and waste services | C9: 563849 | D9: 50013 | E9: 22994 | F9: 17864 | G9: =C9+D9-E9+F9 -> 608732 | H9: =SUMIF('Projection Engine'!$C$5:$C$119,A9,'Projection Engine'!$AM$5:$AM$119) -> 34608 | I9: =C9*$C$2 -> 28192.45 | J9: =E9+I9 -> 51186.45 | K9: =H9-J9 -> -16578.45 | L9: =K9/H9 -> -0.47903519 | M9: =K9/C9 -> -0.029402287 | N9: =F9/C9 -> 0.031682241 | O9: =1-S9 -> 0.54023954 | P9: =MAX((D9-E9)/C9,0) -> 0.047918858 | Q9: =MAX(0,P9-$C$3) -> 0.034918858 | R9: =D9/C9 -> 0.088699279 | S9: =MIN(1,E9/D9) -> 0.45976046 | T9: =MIN(1-S9,($C$3*C9)/D9) -> 0.14656263 | U9: =1-S9-T9 -> 0.3936769 | W9: =U9*D9 -> 19688.963 | X9: =E9/C9 -> 0.040780422
A10: E | B10: Construction | C10: 86538 | D10: 14607 | E10: 10439 | F10: 2422 | G10: =C10+D10-E10+F10 -> 93128 | H10: =SUMIF('Projection Engine'!$C$5:$C$119,A10,'Projection Engine'!$AM$5:$AM$119) -> 78966 | I10: =C10*$C$2 -> 4326.9 | J10: =E10+I10 -> 14765.9 | K10: =H10-J10 -> 64200.1 | L10: =K10/H10 -> 0.8130094 | M10: =K10/C10 -> 0.74187178 | N10: =F10/C10 -> 0.027987705 | O10: =1-S10 -> 0.28534264 | P10: =MAX((D10-E10)/C10,0) -> 0.048163812 | Q10: =MAX(0,P10-$C$3) -> 0.035163812 | R10: =D10/C10 -> 0.1687929 | S10: =MIN(1,E10/D10) -> 0.71465736 | T10: =MIN(1-S10,($C$3*C10)/D10) -> 0.077017457 | U10: =1-S10-T10 -> 0.20832519 | W10: =U10*D10 -> 3043.006 | X10: =E10/C10 -> 0.12062909
A11: F | B11: Wholesale trade | C11: 85296 | D11: 8413 | E11: 8225 | F11: 2943 | G11: =C11+D11-E11+F11 -> 88427 | H11: =SUMIF('Projection Engine'!$C$5:$C$119,A11,'Projection Engine'!$AM$5:$AM$119) -> 42936 | I11: =C11*$C$2 -> 4264.8 | J11: =E11+I11 -> 12489.8 | K11: =H11-J11 -> 30446.2 | L11: =K11/H11 -> 0.70910658 | M11: =K11/C11 -> 0.35694757 | N11: =F11/C11 -> 0.034503376 | O11: =1-S11 -> 0.022346369 | P11: =MAX((D11-E11)/C11,0) -> 0.0022040893 | Q11: =MAX(0,P11-$C$3) -> 0 | R11: =D11/C11 -> 0.098632996 | S11: =MIN(1,E11/D11) -> 0.97765363 | T11: =MIN(1-S11,($C$3*C11)/D11) -> 0.022346369 | U11: =1-S11-T11 -> 0 | W11: =U11*D11 -> 0 | X11: =E11/C11 -> 0.096428906
A12: G | B12: Retail trade | C12: 105405 | D12: 11441 | E12: 9165 | F12: 3141 | G12: =C12+D12-E12+F12 -> 110822 | H12: =SUMIF('Projection Engine'!$C$5:$C$119,A12,'Projection Engine'!$AM$5:$AM$119) -> 38030 | I12: =C12*$C$2 -> 5270.25 | J12: =E12+I12 -> 14435.25 | K12: =H12-J12 -> 23594.75 | L12: =K12/H12 -> 0.62042466 | M12: =K12/C12 -> 0.22384849 | N12: =F12/C12 -> 0.029799345 | O12: =1-S12 -> 0.19893366 | P12: =MAX((D12-E12)/C12,0) -> 0.021592904 | Q12: =MAX(0,P12-$C$3) -> 0.0085929036 | R12: =D12/C12 -> 0.10854324 | S12: =MIN(1,E12/D12) -> 0.80106634 | T12: =MIN(1-S12,($C$3*C12)/D12) -> 0.11976794 | U12: =1-S12-T12 -> 0.07916572 | W12: =U12*D12 -> 905.735 | X12: =E12/C12 -> 0.086950334
A13: H | B13: Accommodation and food services | C13: 96535 | D13: 7794 | E13: 5998 | F13: 3482 | G13: =C13+D13-E13+F13 -> 101813 | H13: =SUMIF('Projection Engine'!$C$5:$C$119,A13,'Projection Engine'!$AM$5:$AM$119) -> 19172 | I13: =C13*$C$2 -> 4826.75 | J13: =E13+I13 -> 10824.75 | K13: =H13-J13 -> 8347.25 | L13: =K13/H13 -> 0.43538754 | M13: =K13/C13 -> 0.086468638 | N13: =F13/C13 -> 0.036069819 | O13: =1-S13 -> 0.23043367 | P13: =MAX((D13-E13)/C13,0) -> 0.018604651 | Q13: =MAX(0,P13-$C$3) -> 0.0056046512 | R13: =D13/C13 -> 0.080737556 | S13: =MIN(1,E13/D13) -> 0.76956633 | T13: =MIN(1-S13,($C$3*C13)/D13) -> 0.16101552 | U13: =1-S13-T13 -> 0.069418142 | W13: =U13*D13 -> 541.045 | X13: =E13/C13 -> 0.062132905
A14: I | B14: Transport, postal and warehousing | C14: 658794 | D14: 66884 | E14: 37077 | F14: 26653 | G14: =C14+D14-E14+F14 -> 715254 | H14: =SUMIF('Projection Engine'!$C$5:$C$119,A14,'Projection Engine'!$AM$5:$AM$119) -> 57319 | I14: =C14*$C$2 -> 32939.7 | J14: =E14+I14 -> 70016.7 | K14: =H14-J14 -> -12697.7 | L14: =K14/H14 -> -0.22152689 | M14: =K14/C14 -> -0.019274159 | N14: =F14/C14 -> 0.04045726 | O14: =1-S14 -> 0.44565217 | P14: =MAX((D14-E14)/C14,0) -> 0.045244796 | Q14: =MAX(0,P14-$C$3) -> 0.032244796 | R14: =D14/C14 -> 0.10152491 | S14: =MIN(1,E14/D14) -> 0.55434783 | T14: =MIN(1-S14,($C$3*C14)/D14) -> 0.1280474 | U14: =1-S14-T14 -> 0.31760478 | W14: =U14*D14 -> 21242.678 | X14: =E14/C14 -> 0.056280112
A15: J | B15: Information media and telecommunications | C15: 249704 | D15: 24933 | E15: 16463 | F15: 8606 | G15: =C15+D15-E15+F15 -> 266780 | H15: =SUMIF('Projection Engine'!$C$5:$C$119,A15,'Projection Engine'!$AM$5:$AM$119) -> 27921 | I15: =C15*$C$2 -> 12485.2 | J15: =E15+I15 -> 28948.2 | K15: =H15-J15 -> -1027.2 | L15: =K15/H15 -> -0.036789513 | M15: =K15/C15 -> -0.0041136706 | N15: =F15/C15 -> 0.034464806 | O15: =1-S15 -> 0.33971042 | P15: =MAX((D15-E15)/C15,0) -> 0.033920161 | Q15: =MAX(0,P15-$C$3) -> 0.020920161 | R15: =D15/C15 -> 0.099850223 | S15: =MIN(1,E15/D15) -> 0.66028958 | T15: =MIN(1-S15,($C$3*C15)/D15) -> 0.130195 | U15: =1-S15-T15 -> 0.20951542 | W15: =U15*D15 -> 5223.848 | X15: =E15/C15 -> 0.065930061
A16: K | B16: Financial and insurance services | C16: 134921 | D16: 14548 | E16: 14609 | F16: 3376 | G16: =C16+D16-E16+F16 -> 138236 | H16: =SUMIF('Projection Engine'!$C$5:$C$119,A16,'Projection Engine'!$AM$5:$AM$119) -> 113903 | I16: =C16*$C$2 -> 6746.05 | J16: =E16+I16 -> 21355.05 | K16: =H16-J16 -> 92547.95 | L16: =K16/H16 -> 0.81251547 | M16: =K16/C16 -> 0.68594177 | N16: =F16/C16 -> 0.02502205 | O16: =1-S16 -> 0 | P16: =MAX((D16-E16)/C16,0) -> 0 | Q16: =MAX(0,P16-$C$3) -> 0 | R16: =D16/C16 -> 0.10782606 | S16: =MIN(1,E16/D16) -> 1 | T16: =MIN(1-S16,($C$3*C16)/D16) -> 0 | U16: =1-S16-T16 -> 0 | W16: =U16*D16 -> 0 | X16: =E16/C16 -> 0.10827818
A17: L | B17: Rental, hiring and real estate services | C17: 355113 | D17: 20861 | E17: 15506 | F17: 14056 | G17: =C17+D17-E17+F17 -> 374524 | H17: =SUMIF('Projection Engine'!$C$5:$C$119,A17,'Projection Engine'!$AM$5:$AM$119) -> 37249 | I17: =C17*$C$2 -> 17755.65 | J17: =E17+I17 -> 33261.65 | K17: =H17-J17 -> 3987.35 | L17: =K17/H17 -> 0.10704583 | M17: =K17/C17 -> 0.011228398 | N17: =F17/C17 -> 0.039581767 | O17: =1-S17 -> 0.2566991 | P17: =MAX((D17-E17)/C17,0) -> 0.015079707 | Q17: =MAX(0,P17-$C$3) -> 0.002079707 | R17: =D17/C17 -> 0.058744681 | S17: =MIN(1,E17/D17) -> 0.7433009 | T17: =MIN(1-S17,($C$3*C17)/D17) -> 0.22129663 | U17: =1-S17-T17 -> 0.035402474 | W17: =U17*D17 -> 738.531 | X17: =E17/C17 -> 0.043664974
... A25: T | B25: Ownership of dwellings | C25: 2960684 | D25: 138570 | E25: 101070 | F25: 137873 | G25: =C25+D25-E25+F25 -> 3136057 | H25: =SUMIF('Projection Engine'!$C$5:$C$119,A25,'Projection Engine'!$AM$5:$AM$119) -> 211373 | I25: =C25*$C$2 -> 148034.2 | J25: =E25+I25 -> 249104.2 | K25: =H25-J25 -> -37731.2 | L25: =K25/H25 -> -0.1785053 | M25: =K25/C25 -> -0.012744082 | N25: =F25/C25 -> 0.046567955 | O25: =1-S25 -> 0.27062135 | P25: =MAX((D25-E25)/C25,0) -> 0.012665992 | Q25: =MAX(0,P25-$C$3) -> 0 | R25: =D25/C25 -> 0.046803374 | S25: =MIN(1,E25/D25) -> 0.72937865 | T25: =MIN(1-S25,($C$3*C25)/D25) -> 0.27062135 | U25: =1-S25-T25 -> 0 | W25: =U25*D25 -> 0 | X25: =E25/C25 -> 0.034137382
C26: =SUM(C6:C25) -> 7985683 | D26: =SUM(D6:D25) -> 604828 | E26: =SUM(E6:E25) -> 435733 | F26: =SUM(F6:F25) -> 326553 | G26: =SUM(G6:G25) -> 8481331 | H26: =SUM(H6:H25) -> 1150716 | I26: =SUM(I6:I25) -> 399284.15 | J26: =SUM(J6:J25) -> 835017.15 | K26: =SUM(K6:K25) -> 315698.85 | L26: =K26/H26 -> 0.27434993 | M26: =K26/C26 -> 0.039533106 | N26: =F26/C26 -> 0.040892307 | O26: =1-S26 -> 0.27957535 | P26: =MAX((D26-E26)/C26,0) -> 0.02117477 | Q26: =MAX(0,P26-$C$3) -> 0.0081747699 | R26: =D26/C26 -> 0.075739044 | S26: =MIN(1,E26/D26) -> 0.72042465 | T26: =MIN(1-S26,($C$3*C26)/D26) -> 0.17164199 | U26: =1-S26-T26 -> 0.10793336 | W26: =U26*D26 -> 65281.121 | X26: =E26/C26 -> 0.054564275
W27: =C26*U26 -> 861921.63
B28: Industry divisions as defined:
B29: https://www.abs.gov.au/statistics/classifications/australian-and-new-zealand-standard-industrial-classification-anzsic/2006-revision-2-0/division-definitions

Sheet Industries
A1: # | B1: Code | C1: Industry Name | D1: Group # | E1: Group Name | F1: Employee Compensation (P1) | G1: Capital (P2) | H1: Direct return | I1: Labour ratio | J1: Share of TFP change captured by labour | K1: TFP change | L1: Pass through to consumers | M1: Real income change | N1: Division #
A2: 1 | B2: 0101 | C2: Sheep, grains, beef and dairy cattle | D2: 1 | E2: Agriculture | F2: {=TRANSPOSE('Base Table 5'!E124:DO124)} -> 3787 | G2: {=TRANSPOSE('Base Table 5'!E125:DO125)} -> 16700 | H2: =F2+G2 -> 20487 | I2: =F2/H2 -> 0.18484893 | J2: ='Scenario Parameters'!$C$51*I2 -> 0.092424464 | K2: =VLOOKUP(D2,'Scenario Parameters'!$A$4:$F$42,6,FALSE) -> 0.15 | L2: =(1-J2)*'Scenario Parameters'!$C$52 -> 0.45378777 | M2: =J2*K2 -> 0.01386367 | N2: A
A3: 2 | B3: 0102 | C3: Poultry and other livestock | D3: 1 | E3: Agriculture | F3: 985 | G3: 5007 | H3: =F3+G3 -> 5992 | I3: =F3/H3 -> 0.16438585 | J3: ='Scenario Parameters'!$C$51*I3 -> 0.082192924 | K3: =VLOOKUP(D3,'Scenario Parameters'!$A$4:$F$42,6,FALSE) -> 0.15 | L3: =(1-J3)*'Scenario Parameters'!$C$52 -> 0.45890354 | M3: =J3*K3 -> 0.012328939 | N3: A
A4: 3 | B4: 0103 | C4: Other agriculture | D4: 1 | E4: Agriculture | F4: 3603 | G4: 14257 | H4: =F4+G4 -> 17860 | I4: =F4/H4 -> 0.20173572 | J4: ='Scenario Parameters'!$C$51*I4 -> 0.10086786 | K4: =VLOOKUP(D4,'Scenario Parameters'!$A$4:$F$42,6,FALSE) -> 0.15 | L4: =(1-J4)*'Scenario Parameters'!$C$52 -> 0.44956607 | M4: =J4*K4 -> 0.015130179 | N4: A
A5: 4 | B5: 0201 | C5: Aquaculture | D5: 1 | E5: Agriculture | F5: 538 | G5: 631 | H5: =F5+G5 -> 1169 | I5: =F5/H5 -> 0.46022241 | J5: ='Scenario Parameters'!$C$51*I5 -> 0.23011121 | K5: =VLOOKUP(D5,'Scenario Parameters'!$A$4:$F$42,6,FALSE) -> 0.15 | L5: =(1-J5)*'Scenario Parameters'!$C$52 -> 0.3849444 | M5: =J5*K5 -> 0.034516681 | N5: A
A6: 5 | B6: 0301 | C6: Forestry and logging | D6: 1 | E6: Agriculture | F6: 916 | G6: 1241 | H6: =F6+G6 -> 2157 | I6: =F6/H6 -> 0.42466389 | J6: ='Scenario Parameters'!$C$51*I6 -> 0.21233194 | K6: =VLOOKUP(D6,'Scenario Parameters'!$A$4:$F$42,6,FALSE) -> 0.15 | L6: =(1-J6)*'Scenario Parameters'!$C$52 -> 0.39383403 | M6: =J6*K6 -> 0.031849791 | N6: A
A7: 6 | B7: 0401 | C7: Fishing, hunting and trapping | D7: 1 | E7: Agriculture | F7: 408 | G7: 937 | H7: =F7+G7 -> 1345 | I7: =F7/H7 -> 0.30334572 | J7: ='Scenario Parameters'!$C$51*I7 -> 0.15167286 | K7: =VLOOKUP(D7,'Scenario Parameters'!$A$4:$F$42,6,FALSE) -> 0.15 | L7: =(1-J7)*'Scenario Parameters'!$C$52 -> 0.42416357 | M7: =J7*K7 -> 0.022750929 | N7: A
A8: 7 | B8: 0501 | C8: Agriculture, forestry and fishing support services | D8: 1 | E8: Agriculture | F8: 2094 | G8: 2139 | H8: =F8+G8 -> 4233 | I8: =F8/H8 -> 0.49468462 | J8: ='Scenario Parameters'!$C$51*I8 -> 0.24734231 | K8: =VLOOKUP(D8,'Scenario Parameters'!$A$4:$F$42,6,FALSE) -> 0.15 | L8: =(1-J8)*'Scenario Parameters'!$C$52 -> 0.37632884 | M8: =J8*K8 -> 0.037101347 | N8: A
A9: 8 | B9: 0601 | C9: Coal mining | D9: 2 | E9: Coal, oil & gas | F9: 9222 | G9: 48126 | H9: =F9+G9 -> 57348 | I9: =F9/H9 -> 0.1608077 | J9: ='Scenario Parameters'!$C$51*I9 -> 0.08040385 | K9: =VLOOKUP(D9,'Scenario Parameters'!$A$4:$F$42,6,FALSE) -> 0.05 | L9: =(1-J9)*'Scenario Parameters'!$C$52 -> 0.45979807 | M9: =J9*K9 -> 0.0040201925 | N9: B
A10: 9 | B10: 0701 | C10: Oil and gas extraction | D10: 2 | E10: Coal, oil & gas | F10: 5213 | G10: 73903 | H10: =F10+G10 -> 79116 | I10: =F10/H10 -> 0.065890591 | J10: ='Scenario Parameters'!$C$51*I10 -> 0.032945296 | K10: =VLOOKUP(D10,'Scenario Parameters'!$A$4:$F$42,6,FALSE) -> 0.05 | L10: =(1-J10)*'Scenario Parameters'!$C$52 -> 0.48352735 | M10: =J10*K10 -> 0.0016472648 | N10: B
A11: 10 | B11: 0801 | C11: Iron ore mining | D11: 3 | E11: Metals & minerals extraction | F11: 9726 | G11: 101348 | H11: =F11+G11 -> 111074 | I11: =F11/H11 -> 0.087563246 | J11: ='Scenario Parameters'!$C$51*I11 -> 0.043781623 | K11: =VLOOKUP(D11,'Scenario Parameters'!$A$4:$F$42,6,FALSE) -> 0.05 | L11: =(1-J11)*'Scenario Parameters'!$C$52 -> 0.47810919 | M11: =J11*K11 -> 0.0021890812 | N11: B
A12: 11 | B12: 0802 | C12: Non-ferrous metal ore mining | D12: 3 | E12: Metals & minerals extraction | F12: 9124 | G12: 8732 | H12: =F12+G12 -> 17856 | I12: =F12/H12 -> 0.5109767 | J12: ='Scenario Parameters'!$C$51*I12 -> 0.25548835 | K12: =VLOOKUP(D12,'Scenario Parameters'!$A$4:$F$42,6,FALSE) -> 0.05 | L12: =(1-J12)*'Scenario Parameters'!$C$52 -> 0.37225582 | M12: =J12*K12 -> 0.012774418 | N12: B
A13: 12 | B13: 0901 | C13: Non-metallic mineral mining | D13: 3 | E13: Metals & minerals extraction | F13: 1869 | G13: 8283 | H13: =F13+G13 -> 10152 | I13: =F13/H13 -> 0.18410165 | J13: ='Scenario Parameters'!$C$51*I13 -> 0.092050827 | K13: =VLOOKUP(D13,'Scenario Parameters'!$A$4:$F$42,6,FALSE) -> 0.05 | L13: =(1-J13)*'Scenario Parameters'!$C$52 -> 0.45397459 | M13: =J13*K13 -> 0.0046025414 | N13: B
A14: 13 | B14: 1001 | C14: Exploration and mining support services | D14: 4 | E14: Extraction support services | F14: 8806 | G14: 5742 | H14: =F14+G14 -> 14548 | I14: =F14/H14 -> 0.60530657 | J14: ='Scenario Parameters'!$C$51*I14 -> 0.30265329 | K14: =VLOOKUP(D14,'Scenario Parameters'!$A$4:$F$42,6,FALSE) -> 0.5 | L14: =(1-J14)*'Scenario Parameters'!$C$52 -> 0.34867336 | M14: =J14*K14 -> 0.15132664 | N14: B
... A116: 115 | B116: 9502 | C116: Other services | D116: 28 | E116: Property, agency & other | F116: 12303 | G116: 1300 | H116: =F116+G116 -> 13603 | I116: =F116/H116 -> 0.90443285 | J116: ='Scenario Parameters'!$C$51*I116 -> 0.45221642 | K116: =VLOOKUP(D116,'Scenario Parameters'!$A$4:$F$42,6,FALSE) -> 0.15 | L116: =(1-J116)*'Scenario Parameters'!$C$52 -> 0.27389179 | M116: =J116*K116 -> 0.067832463 | N116: S
A117: 116 | B117: Innov-HC | C117: Human-centric innovation | D117: 40 | E117: Human-centric innovation | F117: 75 | G117: 25 | H117: =F117+G117 -> 100 | I117: =F117/H117 -> 0.75 | J117: ='Scenario Parameters'!$C$51*I117 -> 0.375 | K117: =VLOOKUP(D117,'Scenario Parameters'!$A$4:$F$44,6,FALSE) -> 0 | L117: =(1-J117)*'Scenario Parameters'!$C$52 -> 0.3125 | M117: =J117*K117 -> 0 | N117: I
A118: 117 | B118: Innov-AI | C118: AI-augmented innovation | D118: 41 | E118: AI-augmented innovation | F118: 25 | G118: 75 | H118: =F118+G118 -> 100 | I118: =F118/H118 -> 0.25 | J118: ='Scenario Parameters'!$C$51*I118 -> 0.125 | K118: =VLOOKUP(D118,'Scenario Parameters'!$A$4:$F$44,6,FALSE) -> 0 | L118: =(1-J118)*'Scenario Parameters'!$C$52 -> 0.4375 | M118: =J118*K118 -> 0 | N118: I
F119: =SUM(F2:F118) -> 1269849 | G119: =SUM(G2:G118) -> 1150816 | H119: =SUM(H2:H118) -> 2420665
F120: =F119/H119 -> 0.52458684 | G120: =G119/H119 -> 0.47541316

Sheet Income Distribution
A1: Income Distribution — Marginal Budget Shares by Industry Group
A2: Column E sets the assumed marginal budget shares (how an additional $1 of household income is distributed across industries). Column F normalises these to sum to the MPC. Column G derives the implied income elasticity, which flows directly to Scenario Parameters column K. Adjust column E to change the income distribution assumption.
A3: # | B3: Industry Group | C3: HH Final Consumption Base ($m) | D3: Average Budget Share | E3: Assumed Marginal Share (user input) | F3: Normalised Marginal Share (= MPC) | G3: Derived Income Elasticity → SP col K
A4: 1 | B4: Agriculture (0101–0501) | C4: =SUMIF(Industries!$D$2:$D$116,A4,'Base Table 5'!$DQ$4:$DQ$118) -> 14842.45 | D4: =C4/SUM($C$4:$C$42) -> 0.01243259 | E4: 0 | F4: =IF(SUM($E$4:$E$42)=0,0,E4/SUM($E$4:$E$42)*$C$49) -> 0 | G4: =IF(D4=0,0,F4/D4) -> 0
A5: 2 | B5: Coal, oil and gas extraction, fossil fuel products and gas supply (0601/0701/1701/2701) | C5: =SUMIF(Industries!$D$2:$D$116,A5,'Base Table 5'!$DQ$4:$DQ$118) -> 12220.514 | D5: =C5/SUM($C$4:$C$42) -> 0.010236359 | E5: 0 | F5: =IF(SUM($E$4:$E$42)=0,0,E5/SUM($E$4:$E$42)*$C$49) -> 0 | G5: =IF(D5=0,0,F5/D5) -> 0
A6: 3 | B6: Metals and minerals extraction (0801–0901) | C6: =SUMIF(Industries!$D$2:$D$116,A6,'Base Table 5'!$DQ$4:$DQ$118) -> 490.0162 | D6: =C6/SUM($C$4:$C$42) -> 0.00041045586 | E6: 0 | F6: =IF(SUM($E$4:$E$42)=0,0,E6/SUM($E$4:$E$42)*$C$49) -> 0 | G6: =IF(D6=0,0,F6/D6) -> 0
A7: 4 | B7: Extraction support services (1001) | C7: =SUMIF(Industries!$D$2:$D$116,A7,'Base Table 5'!$DQ$4:$DQ$118) -> 190.7615 | D7: =C7/SUM($C$4:$C$42) -> 0.00015978895 | E7: 0 | F7: =IF(SUM($E$4:$E$42)=0,0,E7/SUM($E$4:$E$42)*$C$49) -> 0 | G7: =IF(D7=0,0,F7/D7) -> 0
